BEGIN:VCALENDAR
VERSION:2.0
PRODID:-//ChamberMaster//Event Calendar 2.0//EN
METHOD:PUBLISH
X-PUBLISHED-TTL:P3D
REFRESH-INTERVAL:P3D
CALSCALE:GREGORIAN
BEGIN:VEVENT
DTSTART:20220420T213000Z
DTEND:20220420T230000Z
X-MICROSOFT-CDO-ALLDAYEVENT:FALSE
SUMMARY:Happy Hour Connections @ Backwater Provisions
DESCRIPTION:Join other Safety Harbor Chamber members to connect and grow your businesses. We meet informally monthly to get to know each other and what we do .  Guests are welcome.  We try to feature a different business\, restaurant\, or bar each month!
X-ALT-DESC;FMTTYPE=text/html:<span style="background:white\;"><span style="font-family:helvetica\,sans-serif\;">Join other Safety Harbor Chamber members to connect and grow your businesses. We meet informally&nbsp\;</span><span style="font-family: helvetica\, sans-serif\;">monthly&nbsp\;</span><span style="font-family:helvetica\,sans-serif\;">to get to know each other and what we do . &nbsp\;Guests are welcome.&nbsp\; We try to feature a different business\, restaurant\, or bar each month!</span></span>
LOCATION:Backwater Provisions 230 Main St\, Unit B Safety Harbor
UID:e.2494.2763
SEQUENCE:3
DTSTAMP:20260425T153529Z
URL:https://business.safetyharborchamber.com/events/details/happy-hour-connections-backwater-provisions-2763
END:VEVENT

END:VCALENDAR
