BEGIN:VCALENDAR
VERSION:2.0
PRODID:-//ChamberMaster//Event Calendar 2.0//EN
METHOD:PUBLISH
X-PUBLISHED-TTL:P3D
REFRESH-INTERVAL:P3D
CALSCALE:GREGORIAN
BEGIN:VEVENT
DTSTART:20220316T213000Z
DTEND:20220316T230000Z
X-MICROSOFT-CDO-ALLDAYEVENT:FALSE
SUMMARY:Happy Hour Connections @ AERIE LANE HOME
DESCRIPTION:We are a group of Safety Harbor Chamber members who like to connect and grow our businesses. We meet informally monthly to get to know each other and what we do .  Guests are welcome. Light snacks and drinks will be provided. Come sip and shop while you make valuable connections!
X-ALT-DESC;FMTTYPE=text/html:<span style="background:white\;"><span style="font-family:helvetica\,sans-serif\;">We are a group of Safety Harbor Chamber members who like to connect and grow our businesses. We meet informally&nbsp\;</span><span style="font-family: helvetica\, sans-serif\;">monthly&nbsp\;</span><span style="font-family:helvetica\,sans-serif\;">to get to know each other and what we do . &nbsp\;Guests are welcome. Light snacks and drinks will be provided. Come sip and shop while you make valuable connections!</span></span>
LOCATION:Aerie Lane Home 319 Main St Safety Harbor
UID:e.2494.2762
SEQUENCE:3
DTSTAMP:20260425T171423Z
URL:https://business.safetyharborchamber.com/events/details/happy-hour-connections-aerie-lane-home-2762
END:VEVENT

END:VCALENDAR
