BEGIN:VCALENDAR
VERSION:2.0
PRODID:-//ChamberMaster//Event Calendar 2.0//EN
METHOD:PUBLISH
X-PUBLISHED-TTL:P3D
REFRESH-INTERVAL:P3D
CALSCALE:GREGORIAN
BEGIN:VEVENT
DTSTART:20260416T213000Z
DTEND:20260416T230000Z
X-MICROSOFT-CDO-ALLDAYEVENT:FALSE
SUMMARY:Happy Hour Connections
DESCRIPTION:Please note that we will meet Thursday this month instead of Wednesday!\n\nWe are a group of Safety Harbor Chamber members who like to connect and grow our businesses. We meet monthly to get to know each other and learn more about what we do.  Guests are welcome.
X-ALT-DESC;FMTTYPE=text/html:<span style="font-size:22px\;"><span style="font-family:comic sans ms\;"><span style="background:white\;">Please note that we will meet Thursday this month instead of Wednesday!<br />\nWe are a group of Safety Harbor Chamber members who like to connect and grow our businesses. We meet monthly&nbsp\;to get to know each other and learn more about what we do. &nbsp\;Guests are welcome.&nbsp\;&nbsp\;</span></span></span>
LOCATION:School of Rock 1530 McMullen Booth Rd Bay D2 Clearwater 33759
UID:e.2494.2811
SEQUENCE:3
DTSTAMP:20260421T081622Z
URL:https://business.safetyharborchamber.com/events/details/happy-harbor-networkers-04-15-2026-2811
END:VEVENT

END:VCALENDAR
