BEGIN:VCALENDAR
VERSION:2.0
PRODID:-//ChamberMaster//Event Calendar 2.0//EN
METHOD:PUBLISH
X-PUBLISHED-TTL:P3D
REFRESH-INTERVAL:P3D
CALSCALE:GREGORIAN
BEGIN:VEVENT
DTSTART:20220114T233000Z
DTEND:20220115T030000Z
X-MICROSOFT-CDO-ALLDAYEVENT:FALSE
SUMMARY:Grease is the Word Casino Night
DESCRIPTION:Mark your calendars for Friday\, January 14\, 2022\, 6:30 to 10:00 pm for Grease is the Word   Casino Night\, the Safety Harbor Library Foundation's fundraiser for the 20/20 Vision   Let's Build a Story Capital Campaign. Dust off your leather jackets\, poodle skirts\, or come as you are to the Safety Harbor Community Center\, 650 9th Ave South. Gaming tables open at 7:00 pm\, doors open at 6:30 PM. Tickets are $50 in advance or $55 at the door and may be purchased at the Safety Harbor Public Library or online at https://casinonight2022.eventbrite.com. The evening includes casino games provided by Casino Party Planners\, prizes\, dancing music by DJ Les n' More\, silent auction items\, a 50/50 raffle\, and hors d'oeuvres by Stuffed Mushroom. Beer and wine available. For more information visit: SafetyHarborLibraryFoundation.org or call 727-724-1525 x4106. The Foundation thanks their presenting sponsors\, the Rotary Club of Safety Harbor\, and the Stuffed Mushroom. Pink Lady Sponsors\; The Platinum 401k.com\, Safety Harbor Lions Club\, and Kiwanis Club of Safety Harbor. T-Bird Sponsors\; Rogan & Associates Financial Planners\, Murphy Law\, Safety Harbor Dentistry\, and Les 'n More.
X-ALT-DESC;FMTTYPE=text/html:Mark your calendars for Friday\, January 14\, 2022\, 6:30 to 10:00 pm for Grease is the Word &ndash\; Casino Night\, the Safety Harbor Library Foundation&rsquo\;s fundraiser for the 20/20 Vision &ndash\; Let&rsquo\;s Build a Story Capital Campaign. Dust off your leather jackets\, poodle skirts\, or come as you are to the Safety Harbor Community Center\, 650 9th Ave South. Gaming tables open at 7:00 pm\, doors open at 6:30 PM. Tickets are $50 in advance or $55 at the door and may be purchased at the Safety Harbor Public Library or online at https://casinonight2022.eventbrite.com. The evening includes casino games provided by Casino Party Planners\, prizes\, dancing music by DJ Les n&rsquo\; More\, silent auction items\, a 50/50 raffle\, and hors d&#39\;oeuvres by Stuffed Mushroom. Beer and wine available. For more information visit: SafetyHarborLibraryFoundation.org or call 727-724-1525 x4106. The Foundation thanks their presenting sponsors\, the Rotary Club of Safety Harbor\, and the Stuffed Mushroom. Pink Lady Sponsors\; The Platinum 401k.com\, Safety Harbor Lions Club\, and Kiwanis Club of Safety Harbor. T-Bird Sponsors\; Rogan &amp\; Associates Financial Planners\, Murphy Law\, Safety Harbor Dentistry\, and Les &lsquo\;n More.
LOCATION:Safety Harbor Community Center\, 650 9th Ave South - Safety Harbor\, FL 34695
UID:e.2494.10623
SEQUENCE:3
DTSTAMP:20260425T183321Z
URL:https://business.safetyharborchamber.com/events/details/grease-is-the-word-casino-night-01-14-2022-10623
END:VEVENT

END:VCALENDAR
