BEGIN:VCALENDAR
VERSION:2.0
PRODID:-//ChamberMaster//Event Calendar 2.0//EN
METHOD:PUBLISH
X-PUBLISHED-TTL:P3D
REFRESH-INTERVAL:P3D
CALSCALE:GREGORIAN
BEGIN:VEVENT
DTSTART:20220721T223000Z
DTEND:20220721T233000Z
X-MICROSOFT-CDO-ALLDAYEVENT:FALSE
SUMMARY:Gators! - A Presentation by the Florida Aquarium
DESCRIPTION:The Florida Aquarium presents Gators!\, a program for all ages\, at the Safety Harbor Public Library\, Thursday\, July 21\, 6:30 pm. Representatives from The Florida Aquarium will share information on these remarkable creatures\, and attendees will be able to meet a live alligator and learn how to coexist with these amazing\, important reptiles. The Florida Aquarium is a non-profit organization that actively engages in stewardship of the natural environment as a conservation-based attraction with programs that include conservation and research\, education\, and outreach. They focus on delivering world-class animal care to thousands of animals with the goal of building awareness and inspiring action for species and habitat conservation.
X-ALT-DESC;FMTTYPE=text/html:The Florida Aquarium presents Gators!\, a program for all ages\, at the Safety Harbor Public Library\, Thursday\, July 21\, 6:30 pm. Representatives from The Florida Aquarium will share information on these remarkable creatures\, and attendees will be able to meet a live alligator and learn how to coexist with these amazing\, important reptiles. The Florida Aquarium is a non-profit organization that actively engages in stewardship of the natural environment as a conservation-based attraction with programs that include conservation and research\, education\, and outreach. They focus on delivering world-class animal care to thousands of animals with the goal of building awareness and inspiring action for species and habitat conservation.
LOCATION:Safety Harbor Public Library\, 101 2nd St N\, Safety Harbor\, FL 34695
UID:e.2494.11319
SEQUENCE:3
DTSTAMP:20260425T111849Z
URL:https://business.safetyharborchamber.com/events/details/gators-a-presentation-by-the-florida-aquarium-11319
END:VEVENT

END:VCALENDAR
