BEGIN:VCALENDAR
VERSION:2.0
PRODID:-//ChamberMaster//Event Calendar 2.0//EN
METHOD:PUBLISH
X-PUBLISHED-TTL:P3D
REFRESH-INTERVAL:P3D
CALSCALE:GREGORIAN
BEGIN:VEVENT
DTSTART:20230309T230000Z
DTEND:20230310T010000Z
X-MICROSOFT-CDO-ALLDAYEVENT:FALSE
SUMMARY:Game Night at the Safety Harbor Public Library
DESCRIPTION:Gather your wits and friends for an interactive and fun filled night at the Safety Harbor Public Library on Thursday\, March 9 at 6:00 pm. A variety of game show style games including Speed Trivia\, Family Feud\, and Pyramid will test your knowledge and skills. Come as a team or come solo! Your hosts for the evening\, Game Night\, an interactive-gaming company\, will bring a mix of wit and comedy\, plus some useless knowledge that will keep you entertained and laughing well after the night ends.
X-ALT-DESC;FMTTYPE=text/html:Gather your wits and friends for an interactive and fun filled night at the Safety Harbor Public Library on Thursday\, March 9 at 6:00 pm. A variety of game show style games including Speed Trivia\, Family Feud\, and Pyramid will test your knowledge and skills. Come as a team or come solo! Your hosts for the evening\, Game Night\, an interactive-gaming company\, will bring a mix of wit and comedy\, plus some useless knowledge that will keep you entertained and laughing well after the night ends.
LOCATION:Safety Harbor Public Library\, 101 2nd St N\, Safety Harbor\, FL 34695
UID:e.2494.12475
SEQUENCE:3
DTSTAMP:20260425T001017Z
URL:https://business.safetyharborchamber.com/events/details/game-night-at-the-safety-harbor-public-library-12475
END:VEVENT

END:VCALENDAR
