BEGIN:VCALENDAR
VERSION:2.0
PRODID:-//ChamberMaster//Event Calendar 2.0//EN
METHOD:PUBLISH
X-PUBLISHED-TTL:P3D
REFRESH-INTERVAL:P3D
CALSCALE:GREGORIAN
BEGIN:VEVENT
DTSTART:20241011T210000Z
DTEND:20241012T010000Z
X-MICROSOFT-CDO-ALLDAYEVENT:FALSE
SUMMARY:Full Moon Fest: Community Festival Fundraiser
DESCRIPTION:Calling all Halloween fanatics!!! Enjoy Halloween fun for the whole family at La Femme Institute's inaugural Full Moon Fest: The First Halloween\, a community festival! Get in the Halloween spirit with games\, art activities\, photo ops\, tricks\, and treats! Try the silent auction and raffles\, and taste treats from food trucks.
X-ALT-DESC;FMTTYPE=text/html:Calling all Halloween fanatics!!! Enjoy Halloween fun for the whole family at La Femme Institute&#39\;s inaugural Full Moon Fest: The First Halloween\, a community festival! Get in the Halloween spirit with games\, art activities\, photo ops\, tricks\, and treats! Try the silent auction and raffles\, and taste treats from food trucks.
LOCATION:La Femme Institute 1150 County Road 1 Palm Harbor\, FL 34683
UID:e.2494.14600
SEQUENCE:3
DTSTAMP:20260421T162222Z
URL:https://business.safetyharborchamber.com/events/details/full-moon-fest-community-festival-fundraiser-14600
END:VEVENT

END:VCALENDAR
