BEGIN:VCALENDAR
VERSION:2.0
PRODID:-//ChamberMaster//Event Calendar 2.0//EN
METHOD:PUBLISH
X-PUBLISHED-TTL:P3D
REFRESH-INTERVAL:P3D
CALSCALE:GREGORIAN
BEGIN:VEVENT
DTSTART:20221210T140000Z
DTEND:20221210T200000Z
X-MICROSOFT-CDO-ALLDAYEVENT:FALSE
SUMMARY:Friends of the Safety Harbor Public Library Book Sale
DESCRIPTION:The Friends of the Safety Harbor Public Library Book Sale is set for outside under the Baranoff Oak on Saturday\, December 10\, 9:00 am   3:00 pm. All genres of books in good condition available\, plus DVDs\, music CDs\, and so much more. Most items are only $1.00. A great opportunity for holiday gifts. The Friends of the Library are always looking for fresh ideas and new friends to support fundraising efforts. All funds raised are used directly for library programs and initiatives. For applications and more information\, visit www.FriendsSafetyHarborLibrary.org.
X-ALT-DESC;FMTTYPE=text/html:The Friends of the Safety Harbor Public Library Book Sale is set for outside under the Baranoff Oak on Saturday\, December 10\, 9:00 am &ndash\; 3:00 pm. All genres of books in good condition available\, plus DVDs\, music CDs\, and so much more. Most items are only $1.00. A great opportunity for holiday gifts. The Friends of the Library are always looking for fresh ideas and new friends to support fundraising efforts. All funds raised are used directly for library programs and initiatives. For applications and more information\, visit www.FriendsSafetyHarborLibrary.org.
LOCATION:Safety Harbor Public Library\, 101 2nd St N\, Safety Harbor\, FL 34695
UID:e.2494.12126
SEQUENCE:3
DTSTAMP:20260425T031140Z
URL:https://business.safetyharborchamber.com/events/details/friends-of-the-safety-harbor-public-library-book-sale-12-10-2022-12126
END:VEVENT

END:VCALENDAR
