BEGIN:VCALENDAR
VERSION:2.0
PRODID:-//ChamberMaster//Event Calendar 2.0//EN
METHOD:PUBLISH
X-PUBLISHED-TTL:P3D
REFRESH-INTERVAL:P3D
CALSCALE:GREGORIAN
BEGIN:VEVENT
DTSTART:20220604T130000Z
DTEND:20220604T190000Z
X-MICROSOFT-CDO-ALLDAYEVENT:FALSE
SUMMARY:Friends of the Safety Harbor Public Library Book Sale
DESCRIPTION:The Friends of the Safety Harbor Library Book Sale is set for Saturday\, June 4\, 9:00 am   3:00 pm. Books of all genres in good condition available\, plus DVDs\, music CDs\, antique books\, and more. Most items $1.00. All proceeds benefit library programs and initiatives. The Friends are always looking for fresh ideas and new friends to support fundraising efforts. For applications and more information\, visit www.FriendsSafetyHarborLibrary.org.
X-ALT-DESC;FMTTYPE=text/html:The Friends of the Safety Harbor Library Book Sale is set for Saturday\, June 4\, 9:00 am &ndash\; 3:00 pm. Books of all genres in good condition available\, plus DVDs\, music CDs\, antique books\, and more. Most items $1.00. All proceeds benefit library programs and initiatives. The Friends are always looking for fresh ideas and new friends to support fundraising efforts. For applications and more information\, visit www.FriendsSafetyHarborLibrary.org.
LOCATION:Safety Harbor Public Library\, 101 2nd St N\, Safety Harbor\, FL 34695
UID:e.2494.10907
SEQUENCE:3
DTSTAMP:20260425T125603Z
URL:https://business.safetyharborchamber.com/events/details/friends-of-the-safety-harbor-public-library-book-sale-06-04-2022-10907
END:VEVENT

END:VCALENDAR
