BEGIN:VCALENDAR
VERSION:2.0
PRODID:-//ChamberMaster//Event Calendar 2.0//EN
METHOD:PUBLISH
X-PUBLISHED-TTL:P3D
REFRESH-INTERVAL:P3D
CALSCALE:GREGORIAN
BEGIN:VEVENT
DTSTART:20230318T130000Z
DTEND:20230318T190000Z
X-MICROSOFT-CDO-ALLDAYEVENT:FALSE
SUMMARY:Friends of the Safety Harbor Library Book Sale
DESCRIPTION:The Friends of the Safety Harbor Public Library have set their first book sale of the year for Saturday\, March 18\, 9:00 am   3:00 pm. All genres of books in good condition will be available\, plus DVDs\, music CDs\, and so much more. Most items are only $1.00! The Friends of the Library are always looking for fresh ideas and new members to support fundraising efforts. All funds raised are used directly for library programs and initiatives. For membership applications and more information\, please visit www.FriendsSafetyHarborLibrary.org.
X-ALT-DESC;FMTTYPE=text/html:The Friends of the Safety Harbor Public Library have set their first book sale of the year for Saturday\, March 18\, 9:00 am &ndash\; 3:00 pm. All genres of books in good condition will be available\, plus DVDs\, music CDs\, and so much more. Most items are only $1.00! The Friends of the Library are always looking for fresh ideas and new members to support fundraising efforts. All funds raised are used directly for library programs and initiatives. For membership applications and more information\, please visit www.FriendsSafetyHarborLibrary.org.
LOCATION:Safety Harbor Public Library\, 101 2nd St N\, Safety Harbor\, FL 34695
UID:e.2494.12480
SEQUENCE:3
DTSTAMP:20260424T230717Z
URL:https://business.safetyharborchamber.com/events/details/friends-of-the-safety-harbor-library-book-sale-03-18-2023-12480
END:VEVENT

END:VCALENDAR
