BEGIN:VCALENDAR
VERSION:2.0
PRODID:-//ChamberMaster//Event Calendar 2.0//EN
METHOD:PUBLISH
X-PUBLISHED-TTL:P3D
REFRESH-INTERVAL:P3D
CALSCALE:GREGORIAN
BEGIN:VEVENT
DTSTART:20241123T170000Z
DTEND:20241123T183000Z
X-MICROSOFT-CDO-ALLDAYEVENT:FALSE
SUMMARY:Free Senior and Veteran Appreciation Luncheon
DESCRIPTION:Attention Seniors and Veterans\, please come to our annual free pre-Thanksgiving luncheon with live entertainment compliments of Rotary Club of Safety Harbor and served by our wonderful partner Interact Students from Countryside High School!  Lunch is Saturday Nov. 23rd Lunch is at 12:00 PM\, and it will be a hot sit-down turkey dinner meal with dessert held at the First Presbyterian Church of Safety Harbor. There will be door prizes and wonderful music by Steve Middents with singing and great fellowship! Invite your friends and please rsvp in advance @ 727-686-6765
X-ALT-DESC;FMTTYPE=text/html:<span style="font-size:18px\;"><span style="font-family:verdana\;"><span style="letter-spacing:-.25pt\;"><span style="color:#26282A\;">Attention Seniors and Veterans\, please come to our annual free pre-Thanksgiving luncheon with live entertainment compliments of Rotary Club of Safety Harbor and served by our wonderful partner Interact Students from Countryside High School!&nbsp\; Lunch is Saturday Nov. 23rd Lunch is at 12:00 PM\, and it will be a hot sit-down turkey dinner meal with dessert held at the First Presbyterian Church of Safety Harbor. There will be door prizes and wonderful music by Steve Middents with singing and great fellowship! Invite your friends and please rsvp in advance @ 727-686-6765</span></span></span></span>
LOCATION:First Presbyterian Church of Safety Harbor 255 5th Ave South Safety Harbor
UID:e.2494.14641
SEQUENCE:3
DTSTAMP:20260421T072221Z
URL:https://business.safetyharborchamber.com/events/details/free-senior-and-veteran-appreciation-luncheon-14641
END:VEVENT

END:VCALENDAR
