BEGIN:VCALENDAR
VERSION:2.0
PRODID:-//ChamberMaster//Event Calendar 2.0//EN
METHOD:PUBLISH
X-PUBLISHED-TTL:P3D
REFRESH-INTERVAL:P3D
CALSCALE:GREGORIAN
BEGIN:VEVENT
DTSTART:20250112T003000Z
DTEND:20250112T033000Z
X-MICROSOFT-CDO-ALLDAYEVENT:FALSE
SUMMARY:Frankenstein Frenzy Masquerade Ball
DESCRIPTION:This is the Rotary Club of Safety Harbor Halloween party that was postponed due to the Hurricanes. This is benefiting the SH Middle School PTA and the Rotary Club of Safety Harbor\, with a 0/50 split of proceeds. The storms didn't scare us off or blow us away! We're starting the new year off with old friends and new fun. Bring your best costume (not required) and scary holiday lights. Food provided and drinks are available with a donation. There will be DJ music\, a silent auction and a fun Rock\, Scissors\, Paper contest along with best costume award
X-ALT-DESC;FMTTYPE=text/html:This is the Rotary Club of Safety Harbor Halloween party that was postponed due to the Hurricanes. This is benefiting the SH Middle School PTA and the Rotary Club of Safety Harbor\, with a 0/50 split of proceeds. The storms didn&#39\;t scare us off or blow us away! We&#39\;re starting the new year off with old friends and new fun. Bring your best costume (not required) and scary holiday lights. Food provided and drinks are available with a donation. There will be DJ music\, a silent auction and a fun Rock\, Scissors\, Paper contest along with best costume award
LOCATION:Safety Harbor Recreation Center
UID:e.2494.14655
SEQUENCE:3
DTSTAMP:20260420T071747Z
URL:https://business.safetyharborchamber.com/events/details/frankenstein-frenzy-masquerade-ball-01-11-2025-14655
END:VEVENT

END:VCALENDAR
