BEGIN:VCALENDAR
VERSION:2.0
PRODID:-//ChamberMaster//Event Calendar 2.0//EN
METHOD:PUBLISH
X-PUBLISHED-TTL:P3D
REFRESH-INTERVAL:P3D
CALSCALE:GREGORIAN
BEGIN:VEVENT
DTSTART:20250228T193000Z
DTEND:20250228T220000Z
X-MICROSOFT-CDO-ALLDAYEVENT:FALSE
SUMMARY:Five Chamber Bowling Mixer
DESCRIPTION:Join Safety Harbor\, Tarpon Springs\, Palm Harbor\, Dunedin\, and Upper Tampa Bay Chamber members for a little fun and cross-chamber networking in support of business and good times.
X-ALT-DESC;FMTTYPE=text/html:<span style="font-size:22px\;">Join Safety Harbor\, Tarpon Springs\, Palm Harbor\, Dunedin\, and Upper Tampa Bay Chamber members for a little fun and cross-chamber networking in support of business and good times.&nbsp\;</span>
LOCATION:Maple Lanes of Countryside 27867 US Hwy 19N Clearwater\, FL 33761
UID:e.2494.14667
SEQUENCE:3
DTSTAMP:20260422T045634Z
URL:https://business.safetyharborchamber.com/events/details/five-chamber-bowling-mixer-14667
END:VEVENT

END:VCALENDAR
