BEGIN:VCALENDAR
VERSION:2.0
PRODID:-//ChamberMaster//Event Calendar 2.0//EN
METHOD:PUBLISH
X-PUBLISHED-TTL:P3D
REFRESH-INTERVAL:P3D
CALSCALE:GREGORIAN
BEGIN:VEVENT
DTSTART:20230313T140000Z
DTEND:20230319T180000Z
X-MICROSOFT-CDO-ALLDAYEVENT:FALSE
SUMMARY:Featured Member: Newsom Eye & Laser Center
DESCRIPTION:Our Featured Member of the week is Newsom Eye\n\n\n\nNewsom Eye offers complete eye care service including:\n\n-Comprehensive eye care and annual eye exams\n\n-Light Adjustable Lens (LAL) cataract surger that allows you to design\, trial\, and customize your vision to match your unique lifestyle\n\n-Cornea\, glaucoma\, and retina treatment\n\n-Optical services
X-ALT-DESC;FMTTYPE=text/html:<strong>Our Featured Member of the week is Newsom Eye</strong><br />\n<br />\nNewsom Eye offers complete eye care service including:<br />\n-Comprehensive eye care and annual eye exams<br />\n-Light Adjustable Lens (LAL) cataract surger that allows you to design\, trial\, and customize your vision to match your unique lifestyle<br />\n-Cornea\, glaucoma\, and retina treatment<br />\n-Optical services
LOCATION:Chamber of Commerce Visitor Center
UID:e.2494.12483
SEQUENCE:3
DTSTAMP:20260424T230401Z
URL:https://business.safetyharborchamber.com/events/details/featured-member-newsom-eye-laser-center-12483
END:VEVENT

END:VCALENDAR
