BEGIN:VCALENDAR
VERSION:2.0
PRODID:-//ChamberMaster//Event Calendar 2.0//EN
METHOD:PUBLISH
X-PUBLISHED-TTL:P3D
REFRESH-INTERVAL:P3D
CALSCALE:GREGORIAN
BEGIN:VEVENT
DTSTART:20230123T170000Z
DTEND:20230129T170000Z
X-MICROSOFT-CDO-ALLDAYEVENT:FALSE
SUMMARY:Featured Member - Landmark Payroll
DESCRIPTION:This week's Featured Member at the Chamber is Landmark Payroll:\n\n\n\n3 FREE Months of Payroll Processing for all Chamber members and their referrals!
X-ALT-DESC;FMTTYPE=text/html:This week&#39\;s Featured Member at the Chamber is Landmark Payroll:<br />\n<br />\n<span style="color:black\;"><span style="font-size:12.0pt\;">3 FREE Months of Payroll Processing for all Chamber members and their referrals!</span></span><br />\n<br />\n<br />\n&nbsp\;
LOCATION:Safety Harbor Visitor Center
UID:e.2494.12400
SEQUENCE:3
DTSTAMP:20260425T014042Z
URL:https://business.safetyharborchamber.com/events/details/featured-member-landmark-payroll-12400
END:VEVENT

END:VCALENDAR
