BEGIN:VCALENDAR
VERSION:2.0
PRODID:-//ChamberMaster//Event Calendar 2.0//EN
METHOD:PUBLISH
X-PUBLISHED-TTL:P3D
REFRESH-INTERVAL:P3D
CALSCALE:GREGORIAN
BEGIN:VEVENT
DTSTART:20241111T130000Z
DTEND:20241111T133000Z
X-MICROSOFT-CDO-ALLDAYEVENT:FALSE
SUMMARY:Featured Member : Kingdom Counseling\, LLC
DESCRIPTION:This Week's Featured Member is Kingdom Counseling LLC:\nKingdom Counseling is dedicated to guiding individuals on their journey towards emotional well-being and personal growth within a safe\, compassionate\, and supportive environment. Our mission is to empower clients to navigate life's challenges with resilience and clarity\, fostering healing\, transformation\, and a renewed sense of purpose.
X-ALT-DESC;FMTTYPE=text/html:<div class="h1 appear-delay" style="box-sizing: border-box\; margin: 0px 0px 15px\; font-family: var(--typeHeaderPrimary)\,var(--typeHeaderFallback)\; line-height: var(--typeHeaderLineHeight)\; font-size: var(--typeHeaderSize)\; color: rgb(0\, 0\, 0)\;"><br />\n<span style="font-size:22px\;"><span style="font-family:comic sans ms\;"><span style="font-size:24px\;">This Week&#39\;s Featured Member is Kingdom Counseling LLC:</span></span></span>\n<p background-color:="" font-size:="" open="" style="box-sizing: inherit\; margin: 0px\; color: rgb(41\, 45\, 46)\; font-family: "><span style="color: rgb(94\, 94\, 94)\; font-family: &quot\;Source Sans Pro&quot\;\, arial\, sans-serif\; font-size: 14px\; text-align: center\; background-color: rgb(254\, 242\, 230)\;">Kingdom Counseling is dedicated to guiding individuals on their journey towards emotional well-being and personal growth within a safe\, compassionate\, and supportive environment. Our mission is to empower clients to navigate life&#39\;s challenges with resilience and clarity\, fostering healing\, transformation\, and a renewed sense of purpose.&nbsp\;</span></p>\n</div>\n
LOCATION:802 2nd Street N\, Suite B Safety Harbor
UID:e.2494.14471
SEQUENCE:3
DTSTAMP:20260421T071722Z
URL:https://business.safetyharborchamber.com/events/details/featured-member-kingdom-counseling-llc-14471
END:VEVENT

END:VCALENDAR
