BEGIN:VCALENDAR
VERSION:2.0
PRODID:-//ChamberMaster//Event Calendar 2.0//EN
METHOD:PUBLISH
X-PUBLISHED-TTL:P3D
REFRESH-INTERVAL:P3D
CALSCALE:GREGORIAN
BEGIN:VEVENT
DTSTART:20221219T170000Z
DTEND:20221227T170000Z
X-MICROSOFT-CDO-ALLDAYEVENT:FALSE
SUMMARY:Featured Member at the Chamber -
DESCRIPTION:This Week's Featured Member at the Chamber: Happy's Golf Cart Rentals\, LLC: The premiere concierge golf cart rental delivery service offering brand-new\, lifted\, gas powered four(4) and six(6)-Passenger golf carts. All vehicles are fully licensed\, insured and street legal. https://www.happyscarts.com/
X-ALT-DESC;FMTTYPE=text/html:This Week&#39\;s Featured Member at the Chamber: Happy&#39\;s Golf Cart Rentals\, LLC:&nbsp\;The premiere concierge golf cart rental delivery service offering brand-new\, lifted\, gas powered four(4) and six(6)-Passenger golf carts. All vehicles are fully licensed\, insured and street legal.&nbsp\;https://www.happyscarts.com/&nbsp\;
LOCATION:
UID:e.2494.12252
SEQUENCE:3
DTSTAMP:20260425T030538Z
URL:https://business.safetyharborchamber.com/events/details/featured-member-at-the-chamber-12252
END:VEVENT

END:VCALENDAR
