BEGIN:VCALENDAR
VERSION:2.0
PRODID:-//ChamberMaster//Event Calendar 2.0//EN
METHOD:PUBLISH
X-PUBLISHED-TTL:P3D
REFRESH-INTERVAL:P3D
CALSCALE:GREGORIAN
BEGIN:VEVENT
DTSTART:20220113T233000Z
DTEND:20220114T003000Z
X-MICROSOFT-CDO-ALLDAYEVENT:FALSE
SUMMARY:Easy Ways to Boost Your Brain Power
DESCRIPTION:Julie Brannon\, D.PSc\, will present holistic therapies and simple strategies for people of all ages to prevent 'brain drain' and enhance cognitive function on Thursday\, January 13 at 6:30 pm at the Safety Harbor Public Library. Has your toothpaste ever wound up in the refrigerator and your mustard in the medicine cabinet? We may experience 'senior moments'\, but cognitive decline is not exclusive to old age. Stress\, overwork\, even nutrient deficiencies can dramatically impact comprehension\, recall\, and the ability to focus\, no matter how many candles are on your birthday cake. But here's the good news: there are easy ways to boost your brain power! Julie is the founder and owner of Bailey's Naturals Herbal Apothecary\, where she has served Safety Harbor and surrounding areas for the past 16 years. As a master herbalist\, educator\, and advocate for natural health\, Julie is fully committed to empowering the community toward robust good health and vitality. The Library is located at 101 2nd Street North\, Safety Harbor. Call 724-1525 x 4112 for more information or visit www.SafetyHarborLibrary.com.
X-ALT-DESC;FMTTYPE=text/html:Julie Brannon\, D.PSc\, will present holistic therapies and simple strategies for people of all ages to prevent &lsquo\;brain drain&rsquo\; and enhance cognitive function on Thursday\, January 13 at 6:30 pm at the Safety Harbor Public Library. Has your toothpaste ever wound up in the refrigerator and your mustard in the medicine cabinet? We may experience &lsquo\;senior moments&rsquo\;\, but cognitive decline is not exclusive to old age. Stress\, overwork\, even nutrient deficiencies can dramatically impact comprehension\, recall\, and the ability to focus\, no matter how many candles are on your birthday cake. But here&rsquo\;s the good news: there are easy ways to boost your brain power! Julie is the founder and owner of Bailey&rsquo\;s Naturals Herbal Apothecary\, where she has served Safety Harbor and surrounding areas for the past 16 years. As a master herbalist\, educator\, and advocate for natural health\, Julie is fully committed to empowering the community toward robust good health and vitality. The Library is located at 101 2nd Street North\, Safety Harbor. Call 724-1525 x 4112 for more information or visit www.SafetyHarborLibrary.com.
LOCATION:Safety Harbor Public Library
UID:e.2494.10629
SEQUENCE:3
DTSTAMP:20260425T182934Z
URL:https://business.safetyharborchamber.com/events/details/easy-ways-to-boost-your-brain-power-10629
END:VEVENT

END:VCALENDAR
