BEGIN:VCALENDAR
VERSION:2.0
PRODID:-//ChamberMaster//Event Calendar 2.0//EN
METHOD:PUBLISH
X-PUBLISHED-TTL:P3D
REFRESH-INTERVAL:P3D
CALSCALE:GREGORIAN
BEGIN:VEVENT
DTSTART:20211231T170000Z
DTEND:20220101T170000Z
X-MICROSOFT-CDO-ALLDAYEVENT:FALSE
SUMMARY:Closed for the Holiday
DESCRIPTION:Happy New Year!
X-ALT-DESC;FMTTYPE=text/html:Happy New Year!
LOCATION:
UID:e.2494.10631
SEQUENCE:3
DTSTAMP:20260425T182954Z
URL:https://business.safetyharborchamber.com/events/details/closed-for-the-holiday-10631
END:VEVENT

END:VCALENDAR
