BEGIN:VCALENDAR
VERSION:2.0
PRODID:-//ChamberMaster//Event Calendar 2.0//EN
METHOD:PUBLISH
X-PUBLISHED-TTL:P3D
REFRESH-INTERVAL:P3D
CALSCALE:GREGORIAN
BEGIN:VEVENT
DTSTART:20221206T000000Z
DTEND:20221206T013000Z
X-MICROSOFT-CDO-ALLDAYEVENT:FALSE
SUMMARY:City Commission Meeting
DESCRIPTION:
X-ALT-DESC;FMTTYPE=text/html:
LOCATION:City Hall Chambers 750 Main Street Safety Harbor
UID:e.2494.3137
SEQUENCE:3
DTSTAMP:20260425T031117Z
URL:https://business.safetyharborchamber.com/events/details/city-commission-meeting-12-05-2022-3137
END:VEVENT

END:VCALENDAR
