BEGIN:VCALENDAR
VERSION:2.0
PRODID:-//ChamberMaster//Event Calendar 2.0//EN
METHOD:PUBLISH
X-PUBLISHED-TTL:P3D
REFRESH-INTERVAL:P3D
CALSCALE:GREGORIAN
BEGIN:VEVENT
DTSTART:20230121T160000Z
DTEND:20230121T200000Z
X-MICROSOFT-CDO-ALLDAYEVENT:FALSE
SUMMARY:Check out a Human Book at The Human Library®
DESCRIPTION:The Safety Harbor Public Library announces a Human Library  on Saturday\, January 21\, 2023\, from 11AM to 3 PM. During the event attendees\, known as readers\, check-out human Books for 15 20-minute one-on-one conversations with the goal of fostering dialogue that challenges stereotypes and prejudices. The idea for The Human Library  began in Copenhagen\, Denmark in 2000. Today universities and public libraries all over the world hold events where participants can "borrow" a person to build a positive framework\, in a safe space for conversations through understanding. For more information\, visit: https://cityofsafetyharbor.com/952/Human-Library For information on the Human Library: https://humanlibrary.org/
X-ALT-DESC;FMTTYPE=text/html:The Safety Harbor Public Library announces a Human Library&reg\; on Saturday\, January 21\, 2023\, from 11AM to 3 PM. During the event attendees\, known as readers\, check-out human Books for 15&ndash\;20-minute one-on-one conversations with the goal of fostering dialogue that challenges stereotypes and prejudices. The idea for The Human Library&reg\; began in Copenhagen\, Denmark in 2000. Today universities and public libraries all over the world hold events where participants can &quot\;borrow&quot\; a person to build a positive framework\, in a safe space for conversations through understanding. For more information\, visit: https://cityofsafetyharbor.com/952/Human-Library For information on the Human Library: https://humanlibrary.org/
LOCATION:Safety Harbor Public Library 101 2nd Street N. Safety Harbor\, FL 34695
UID:e.2494.12244
SEQUENCE:3
DTSTAMP:20260425T014334Z
URL:https://business.safetyharborchamber.com/events/details/check-out-a-human-book-at-the-human-library-12244
END:VEVENT

END:VCALENDAR
