BEGIN:VCALENDAR
VERSION:2.0
PRODID:-//ChamberMaster//Event Calendar 2.0//EN
METHOD:PUBLISH
X-PUBLISHED-TTL:P3D
REFRESH-INTERVAL:P3D
CALSCALE:GREGORIAN
BEGIN:VEVENT
DTSTART:20220126T150000Z
DTEND:20220126T160000Z
X-MICROSOFT-CDO-ALLDAYEVENT:FALSE
SUMMARY:CANCELED MOSH Meeting CANCELED
DESCRIPTION:THE Jan 26th MOSH meeting has been canceled. Please attend the next meeting on February 1st at 5:30pm. Please email any MOSH agenda items or 3rd Friday feedback to cammie@safetyharborchamber.com.\n\n\n\nALL DOWNTOWN MERCHANTS!\n\nBe involved in the planning of events and marketing for our downtown.\n\n\n\nMission:  The Merchants of Safety Harbor (MOSH) committee of the Chamber brings awareness\, business and traffic to downtown Safety Harbor through advertising and promotion\, advocacy for its merchants and maintaining its beauty and small town feel.
X-ALT-DESC;FMTTYPE=text/html:<strong style="color: rgb(51\, 51\, 51)\; font-family: sans-serif\, Arial\, Verdana\, &quot\;Trebuchet MS&quot\;\; font-size: 13px\;"><span style="background: white\;"><span style="font-family: verdana\, sans-serif\;"><span style="font-size: 10.5pt\;"><span style="color:#FF0000\;">THE Jan 26th MOSH meeting has been canceled. Please attend the next meeting on February 1st at 5:30pm. Please email any MOSH agenda items or 3rd Friday feedback to cammie@safetyharborchamber.com.</span></span></span><br />\n<br />\n<span style="color: mediumblue\;"><span style="font-family: verdana\, sans-serif\;"><span style="font-size: 10.5pt\;">ALL DOWNTOWN MERCHANTS!</span></span></span></span></strong><br style="color: rgb(51\, 51\, 51)\; font-family: sans-serif\, Arial\, Verdana\, &quot\;Trebuchet MS&quot\;\; font-size: 13px\;" />\n<strong style="color: rgb(51\, 51\, 51)\; font-family: sans-serif\, Arial\, Verdana\, &quot\;Trebuchet MS&quot\;\; font-size: 13px\;"><span style="background: white\;"><span style="color: mediumblue\;"><span style="font-family: verdana\, sans-serif\;"><span style="font-size: 10.5pt\;"><strong>Be involved in the planning of events and marketing for our downtown.</strong></span></span></span></span></strong><br style="color: rgb(51\, 51\, 51)\; font-family: sans-serif\, Arial\, Verdana\, &quot\;Trebuchet MS&quot\;\; font-size: 13px\;" />\n<br style="color: rgb(51\, 51\, 51)\; font-family: sans-serif\, Arial\, Verdana\, &quot\;Trebuchet MS&quot\;\; font-size: 13px\;" />\n<span style="color: rgb(51\, 51\, 51)\; font-family: sans-serif\, Arial\, Verdana\, &quot\;Trebuchet MS&quot\;\; font-size: 13px\;"><span style="font-family: verdana\, sans-serif\;"><span style="font-size: 10.5pt\;"><strong><span style="background: white\;">Mission:&nbsp\; The Merchants of Safety Harbor (MOSH) committee of the Chamber brings awareness\, business and traffic to downtown Safety Harbor through advertising and promotion\, advocacy for its merchants and maintaining its beauty and small town feel.</span></strong></span></span></span>
LOCATION:Chamber conference room unless communicated otherwise by Chamber staff
UID:e.2494.10584
SEQUENCE:3
DTSTAMP:20260425T183133Z
URL:https://business.safetyharborchamber.com/events/details/canceled-mosh-meeting-canceled-10584
END:VEVENT

END:VCALENDAR
