BEGIN:VCALENDAR
VERSION:2.0
PRODID:-//ChamberMaster//Event Calendar 2.0//EN
METHOD:PUBLISH
X-PUBLISHED-TTL:P3D
REFRESH-INTERVAL:P3D
CALSCALE:GREGORIAN
BEGIN:VEVENT
DTSTART:20230215T223000Z
DTEND:20230216T000000Z
X-MICROSOFT-CDO-ALLDAYEVENT:FALSE
SUMMARY:CANCELED Happy Hour Connections
DESCRIPTION:We are a group of Safety Harbor Chamber members who like to connect and grow our businesses. We meet informally monthly to get to know each other and what we do. Guests are welcome.
X-ALT-DESC;FMTTYPE=text/html:<span style="background:white\;"><span style="font-family:helvetica\,sans-serif\;">We are a group of Safety Harbor Chamber members who like to connect and grow our businesses. We meet informally&nbsp\;</span><span style="font-family: helvetica\, sans-serif\;">monthly&nbsp\;</span><span style="font-family:helvetica\,sans-serif\;">to get to know each other and what we do. Guests are welcome.</span></span>
LOCATION:Hosted by Safety Harbor Living at The Pub 103 8th Ave N Safety Harbor 34695
UID:e.2494.2773
SEQUENCE:3
DTSTAMP:20260425T020058Z
URL:https://business.safetyharborchamber.com/events/details/canceled-happy-hour-connections-02-15-2023-2773
END:VEVENT

END:VCALENDAR
