BEGIN:VCALENDAR
VERSION:2.0
PRODID:-//ChamberMaster//Event Calendar 2.0//EN
METHOD:PUBLISH
X-PUBLISHED-TTL:P3D
REFRESH-INTERVAL:P3D
CALSCALE:GREGORIAN
BEGIN:VEVENT
DTSTART:20220119T223000Z
DTEND:20220120T000000Z
X-MICROSOFT-CDO-ALLDAYEVENT:FALSE
SUMMARY:Business After Hours @Phoenix Lounge
DESCRIPTION:Networking\, live music\, and cocktails... what's not to love? Come check out Phoenix Lounge and make valuable connections with other businesses.
X-ALT-DESC;FMTTYPE=text/html:<font face="helvetica\, sans-serif">Networking\, live music\, and cocktails... what&#39\;s not to love? Come check out Phoenix Lounge and make valuable connections with other businesses.&nbsp\;</font>
LOCATION:Phoenix Lounge 2454 N McMullen Booth Rd
UID:e.2494.2760
SEQUENCE:3
DTSTAMP:20260425T182953Z
URL:https://business.safetyharborchamber.com/events/details/business-after-hours-phoenix-lounge-2760
END:VEVENT

END:VCALENDAR
