BEGIN:VCALENDAR
VERSION:2.0
PRODID:-//ChamberMaster//Event Calendar 2.0//EN
METHOD:PUBLISH
X-PUBLISHED-TTL:P3D
REFRESH-INTERVAL:P3D
CALSCALE:GREGORIAN
BEGIN:VEVENT
DTSTART:20221129T230000Z
DTEND:20221130T000000Z
X-MICROSOFT-CDO-ALLDAYEVENT:FALSE
SUMMARY:Brain Health & Wellness
DESCRIPTION:It's our choice and responsibility to manage garbage in and garbage out recycling through our brains. Learn to exercise the process of recycling for wellness. A highly interactive and fun presentation.
X-ALT-DESC;FMTTYPE=text/html:It&#39\;s our choice and responsibility to manage garbage in and garbage out recycling through our brains. Learn to exercise the process of recycling for wellness. A highly interactive and fun presentation.
LOCATION:Safety Harbor Public Library\, 101 2nd Street North\, Safety Harbor\, FL 34695
UID:e.2494.12119
SEQUENCE:3
DTSTAMP:20260425T043305Z
URL:https://business.safetyharborchamber.com/events/details/brain-health-wellness-12119
END:VEVENT

END:VCALENDAR
