BEGIN:VCALENDAR
VERSION:2.0
PRODID:-//ChamberMaster//Event Calendar 2.0//EN
METHOD:PUBLISH
X-PUBLISHED-TTL:P3D
REFRESH-INTERVAL:P3D
CALSCALE:GREGORIAN
BEGIN:VEVENT
DTSTART:20250329T190000Z
DTEND:20250330T000000Z
X-MICROSOFT-CDO-ALLDAYEVENT:FALSE
SUMMARY:Bear Bowl
DESCRIPTION:Lace up your bowling shoes and strike out barriers to adoption! With your support of Bear Bowl\, "Bobby Bear" will continue to be an adoption ambassador in Tampa Bay. Teddy Bears are a special symbol in the foster care and adoption world. They represent finding a "forever family" at the adoption finalization hearing - the judge presents the newly adopted child with a cuddly "Bear" to represent the new forever family they are joining.
X-ALT-DESC;FMTTYPE=text/html:Lace up your bowling shoes and strike out barriers to adoption! With your support of Bear Bowl\, &quot\;Bobby Bear&quot\; will continue to be an adoption ambassador in Tampa Bay. Teddy Bears are a special symbol in the foster care and adoption world. They represent finding a &ldquo\;forever family&rdquo\; at the adoption finalization hearing - the judge presents the newly adopted child with a cuddly &ldquo\;Bear&rdquo\; to represent the new forever family they are joining.
LOCATION:maplelanes.com Maple Lanes Countryside 27867 Highway 19 N\, Clearwater\, FL 33761
UID:e.2494.15381
SEQUENCE:3
DTSTAMP:20260420T121910Z
URL:https://business.safetyharborchamber.com/events/details/bear-bowl-15381
END:VEVENT

END:VCALENDAR
