BEGIN:VCALENDAR
VERSION:2.0
PRODID:-//ChamberMaster//Event Calendar 2.0//EN
METHOD:PUBLISH
X-PUBLISHED-TTL:P3D
REFRESH-INTERVAL:P3D
CALSCALE:GREGORIAN
BEGIN:VEVENT
DTSTART:20230225T160000Z
DTEND:20230227T020000Z
X-MICROSOFT-CDO-ALLDAYEVENT:FALSE
SUMMARY:Art & Seafood on the Waterfront 2023 - FREE EVENT
DESCRIPTION:Saturday 11am - 9pm\; Sunday 11am - 6pm Art & Seafood on the Waterfront Festival is a showcase of beautiful\, juried art and great local seafood which will take place in the beautiful Waterfront Park in Safety Harbor. \n\nThe juried art will include mixed media\, paintings\, 3-D artwork\, photography\, wood\, metal\, fiber and jewelry. Cash prize awards to the top judged entries will be presented on Saturday.\n\nLive entertainment on stage throughout the event.\n\nSaturday\n\n2:00                Fly Fishing demo by Barfly\n\n3:30 - 5:00      McLean Mannix\n\n5:00 - 5:15      Awards\n\n5:30 - 7:00      Greg Billings and Friends\n\n7:30 - 9:00      The Petty Experience\n\n\n\nSunday\n\n12:00 - 1:30     TBD\n\n2:00                  Fly Fishing Demo by Barfly\n\n2:00 - 4:00        Voices of Jazz\n\n4:00 - 4:30        Announcements and MC\n\n4:30 - 6:00        Selwyn Birchwood\n\n\n\nGeneral admission to the event is FREE! \n\nMake sure to purchase your VIP tickets by clicking Register Now (above)\, as tickets will sell out! VIPs will enjoy exclusive seating\, VIP restroom\, lawn games\, beer and wine\, and delicious food prepared by Tailgate Pro Entertainment!\n\nGet your tickets today so you can enjoy the event in style!
X-ALT-DESC;FMTTYPE=text/html:<div data-block="true" data-editor="5514k" data-offset-key="fu7p4-0-0" style="">\n<div class="_1mf _1mj" data-offset-key="fu7p4-0-0" style="position: relative\; direction: ltr\;"><span style="font-family:arial\;"><span style="font-size:14px\;"><strong style="color: rgb(29\, 33\, 41)\; font-family: tahoma\; font-size: 14px\; white-space: pre-wrap\; background-color: rgb(255\, 255\, 255)\;">Saturday 11am - 9pm\; Sunday 11am - 6pm </strong><font color="#1d2129"><span style="white-space: pre-wrap\;">Art &amp\; Seafood on the Waterfront Festival is a showcase of beautiful\, juried art and great local seafood which will take place in the beautiful Waterfront Park in Safety Harbor. </span></font><br />\n<span style="color: rgb(29\, 33\, 41)\; white-space: pre-wrap\;">The juried art will include mixed media\, paintings\, 3-D artwork\, photography\, wood\, metal\, fiber and jewelry. Cash prize awards to the top judged entries will be presented on Saturday.<br />\nLive entertainment on stage throughout the event.<br />\n<u>Saturday</u><br />\n2:00</span>&nbsp\;&nbsp\;&nbsp\;&nbsp\;&nbsp\;&nbsp\;&nbsp\;&nbsp\;&nbsp\;&nbsp\;&nbsp\;&nbsp\;&nbsp\;&nbsp\;&nbsp\;&nbsp\;Fly Fishing demo by Barfly<br />\n3:30 - 5:00&nbsp\;&nbsp\;&nbsp\;&nbsp\;&nbsp\;&nbsp\;McLean Mannix<br />\n5:00 - 5:15&nbsp\;&nbsp\;&nbsp\;&nbsp\;&nbsp\;&nbsp\;Awards<br />\n5:30 - 7:00&nbsp\;&nbsp\;&nbsp\;&nbsp\;&nbsp\;&nbsp\;Greg Billings and Friends<br />\n7:30 - 9:00&nbsp\;&nbsp\;&nbsp\;&nbsp\;&nbsp\;&nbsp\;The Petty Experience<br />\n<br />\n<span style="color: rgb(29\, 33\, 41)\; white-space: pre-wrap\;"><u>Sunday</u><br />\n12:00 - 1:30</span>&nbsp\; &nbsp\; &nbsp\;TBD<br />\n2:00&nbsp\;&nbsp\;&nbsp\;&nbsp\;&nbsp\;&nbsp\;&nbsp\;&nbsp\;&nbsp\;&nbsp\;&nbsp\;&nbsp\;&nbsp\;&nbsp\;&nbsp\;&nbsp\;&nbsp\;&nbsp\;Fly Fishing Demo by Barfly<br />\n2:00 - 4:00&nbsp\;&nbsp\;&nbsp\;&nbsp\;&nbsp\;&nbsp\;&nbsp\;&nbsp\;Voices of Jazz<br />\n4:00 - 4:30&nbsp\;&nbsp\;&nbsp\;&nbsp\;&nbsp\;&nbsp\;&nbsp\;&nbsp\;Announcements and MC<br />\n4:30 - 6:00&nbsp\;&nbsp\;&nbsp\;&nbsp\;&nbsp\;&nbsp\;&nbsp\;&nbsp\;Selwyn Birchwood<br />\n<br />\n<strong style="color: rgb(29\, 33\, 41)\; font-family: inherit\; font-size: 12px\; white-space: pre-wrap\;"><span style="color: rgb(29\, 33\, 41)\; white-space: pre-wrap\; background-color: rgb(255\, 255\, 255)\;"><span style="font-size:18px\;">General admission to the event is FREE! </span><br />\n<span style="font-size:20px\;">Make sure to purchase your VIP tickets by clicking Register Now (above)\, as tickets will sell out! VIPs will enjoy exclusive seating\, VIP restroom\, lawn games\, beer and wine\, and delicious food prepared by Tailgate Pro Entertainment!<br />\nGet your tickets today so you can enjoy the event in style! </span></span></strong></span></span></div>\n</div>\n
LOCATION:Saturday 11am - 9pm\; Sunday 11am - 6pm Waterfront Park Veteran's Memorial Lane Safety Harbor
UID:e.2494.11323
SEQUENCE:3
DTSTAMP:20260425T014929Z
URL:https://business.safetyharborchamber.com/events/details/art-seafood-on-the-waterfront-2023-free-event-11323
END:VEVENT

END:VCALENDAR
