BEGIN:VCALENDAR
VERSION:2.0
PRODID:-//ChamberMaster//Event Calendar 2.0//EN
METHOD:PUBLISH
X-PUBLISHED-TTL:P3D
REFRESH-INTERVAL:P3D
CALSCALE:GREGORIAN
BEGIN:VEVENT
DTSTART:20211122T190000Z
DTEND:20211122T190000Z
X-MICROSOFT-CDO-ALLDAYEVENT:FALSE
SUMMARY:Art Connects Alz: A Creative Arts Program for Individuals in the Early Stages of Dementia
DESCRIPTION:Safety Harbor Public Library and the local chapter of the Florida Gulf Coast Alzheimers Association announce a free creative arts program for individuals experiencing early stages of dementia\, every Monday at 2:00 PM\, beginning September 13. This fun\, creative program supports self-expression and social engagement for individuals in the early stages of dementia. No art experience is required. Participants engage and communicate emotions\, stories\, and memories though art and group discussion. The program is offered in person. A virtual option is also available at a different time. For information or to register\, call 727-724-1525 ext.4107 or email Outreach@cityofsafetyharbor.com.
X-ALT-DESC;FMTTYPE=text/html:Safety Harbor Public Library and the local chapter of the Florida Gulf Coast Alzheimers Association announce a free creative arts program for individuals experiencing early stages of dementia\, every Monday at 2:00 PM\, beginning September 13. This fun\, creative program supports self-expression and social engagement for individuals in the early stages of dementia. No art experience is required. Participants engage and communicate emotions\, stories\, and memories though art and group discussion. The program is offered in person. A virtual option is also available at a different time. For information or to register\, call 727-724-1525 ext.4107 or email Outreach@cityofsafetyharbor.com.
LOCATION:The library is located 101 2nd Street N.\, Safety Harbor\, FL 34695 For info visit: www.SafetyHarborLibrary.com.
UID:e.2494.9972
SEQUENCE:3
DTSTAMP:20260425T223900Z
URL:https://business.safetyharborchamber.com/events/details/art-connects-alz-a-creative-arts-program-for-individuals-in-the-early-stages-of-dementia-11-22-2021-9972
END:VEVENT

END:VCALENDAR
