BEGIN:VCALENDAR
VERSION:2.0
PRODID:-//ChamberMaster//Event Calendar 2.0//EN
METHOD:PUBLISH
X-PUBLISHED-TTL:P3D
REFRESH-INTERVAL:P3D
CALSCALE:GREGORIAN
BEGIN:VEVENT
DTSTART:20220606T190000Z
DTEND:20220606T200000Z
X-MICROSOFT-CDO-ALLDAYEVENT:FALSE
SUMMARY:Art Connects Alz: A Creative Arts Program for Individuals in the Early Stages of Dementia
DESCRIPTION:Safety Harbor Public Library and the local chapter of the Florida Gulf Coast Alzheimer?s Association announce a free creative arts program for individuals experiencing early stages of dementia\, every Monday at 3:00 PM. This fun\, creative program supports self-expression and social engagement for individuals in the early stages of dementia. No art experience is required. Participants engage and communicate emotions\, stories\, and memories through art and group discussion. The program is offered virtually. For information or to register\, call 727-724-1525 ext.4107 or email Outreach@cityofsafetyharbor.com.
X-ALT-DESC;FMTTYPE=text/html:Safety Harbor Public Library and the local chapter of the Florida Gulf Coast Alzheimer?s Association announce a free creative arts program for individuals experiencing early stages of dementia\, every Monday at 3:00 PM. This fun\, creative program supports self-expression and social engagement for individuals in the early stages of dementia. No art experience is required. Participants engage and communicate emotions\, stories\, and memories through art and group discussion. The program is offered virtually. For information or to register\, call 727-724-1525 ext.4107 or email Outreach@cityofsafetyharbor.com.
LOCATION:The library is located 101 2nd Street N.\, Safety Harbor\, FL 34695 For info visit: www.SafetyHarborLibrary.com.
UID:e.2494.10660
SEQUENCE:3
DTSTAMP:20260425T125604Z
URL:https://business.safetyharborchamber.com/events/details/art-connects-alz-a-creative-arts-program-for-individuals-in-the-early-stages-of-dementia-06-06-2022-10660
END:VEVENT

END:VCALENDAR
