BEGIN:VCALENDAR
VERSION:2.0
PRODID:-//ChamberMaster//Event Calendar 2.0//EN
METHOD:PUBLISH
X-PUBLISHED-TTL:P3D
REFRESH-INTERVAL:P3D
CALSCALE:GREGORIAN
BEGIN:VEVENT
DTSTART:20230321T130000Z
DTEND:20230321T140000Z
X-MICROSOFT-CDO-ALLDAYEVENT:FALSE
SUMMARY:Ambassador Meeting
DESCRIPTION:For Ambassador Committee Members\n\nIf you are interested in becoming an Ambassador please download the Ambassador Application HERE\, fill out and send to Cammie at the Chamber. Cammie@SafetyHarborChamber.com
X-ALT-DESC;FMTTYPE=text/html:<span style="color: rgb(51\, 51\, 51)\; font-family: sans-serif\, Arial\, Verdana\, &quot\;Trebuchet MS&quot\;\; font-size: 13px\; background-color: rgb(255\, 255\, 255)\;">For Ambassador Committee Members</span><br style="color: rgb(51\, 51\, 51)\; font-family: sans-serif\, Arial\, Verdana\, &quot\;Trebuchet MS&quot\;\; font-size: 13px\;" />\n<span style="color: rgb(51\, 51\, 51)\; font-family: sans-serif\, Arial\, Verdana\, &quot\;Trebuchet MS&quot\;\; font-size: 13px\; background-color: rgb(255\, 255\, 255)\;">If you are interested in becoming an Ambassador please download the Ambassador Application&nbsp\;</span><strong style="color: rgb(51\, 51\, 51)\; font-family: sans-serif\, Arial\, Verdana\, &quot\;Trebuchet MS&quot\;\; font-size: 13px\;"><span style="color: rgb(255\, 0\, 0)\;"><a href="https://chambermaster.blob.core.windows.net/userfiles/UserFiles/chambers/2494/File/AmbassadorApplication.docx" style="color: rgb(7\, 130\, 193)\;">HERE</a></span></strong><span style="color: rgb(51\, 51\, 51)\; font-family: sans-serif\, Arial\, Verdana\, &quot\;Trebuchet MS&quot\;\; font-size: 13px\; background-color: rgb(255\, 255\, 255)\;">\, fill out and send to Cammie at the Chamber. Cammie@SafetyHarborChamber.com</span>
LOCATION:@ Bassano Cheesecake 200 Main Street\, Safety Harbor
UID:e.2494.12461
SEQUENCE:3
DTSTAMP:20260424T225237Z
URL:https://business.safetyharborchamber.com/events/details/ambassador-meeting-12461
END:VEVENT

END:VCALENDAR
