BEGIN:VCALENDAR
VERSION:2.0
PRODID:-//ChamberMaster//Event Calendar 2.0//EN
METHOD:PUBLISH
X-PUBLISHED-TTL:P3D
REFRESH-INTERVAL:P3D
CALSCALE:GREGORIAN
BEGIN:VEVENT
DTSTART:20241121T180000Z
DTEND:20241121T210000Z
X-MICROSOFT-CDO-ALLDAYEVENT:FALSE
SUMMARY:AARP Smart Driver Course
DESCRIPTION:AARP Safe Driver Course: Two-day class Thursday & Friday\, Nov.21 & 22\, 1-4pm. Gain the skills and tools needed to drive safely on today's roads and learn rules and hazards of the road. AARP fee is $20.00 for members with card/$25.00 for non-members. Registration is required call 727-724-1525 ext.4107
X-ALT-DESC;FMTTYPE=text/html:AARP Safe Driver Course: Two-day class Thursday &amp\; Friday\, Nov.21 &amp\; 22\, 1-4pm. Gain the skills and tools needed to drive safely on today&rsquo\;s roads and learn rules and hazards of the road. AARP fee is $20.00 for members with card/$25.00 for non-members. Registration is required call 727-724-1525 ext.4107
LOCATION:Harborside Christian Church\, Partnership with Safety Harbor Public Library\, 2200 Marshall St.\, Safety Harbor\, FL 34695 (2nd Floor\, RM 222)
UID:e.2494.14623
SEQUENCE:3
DTSTAMP:20260421T070444Z
URL:https://business.safetyharborchamber.com/events/details/aarp-smart-driver-course-11-21-2024-14623
END:VEVENT

END:VCALENDAR
