BEGIN:VCALENDAR
VERSION:2.0
PRODID:-//ChamberMaster//Event Calendar 2.0//EN
METHOD:PUBLISH
X-PUBLISHED-TTL:P3D
REFRESH-INTERVAL:P3D
CALSCALE:GREGORIAN
BEGIN:VEVENT
DTSTART:20220129T150000Z
DTEND:20220129T190000Z
X-MICROSOFT-CDO-ALLDAYEVENT:FALSE
SUMMARY:7th Annual Health & Wealth Expo
DESCRIPTION:This FREE Community event is sponsored by SAFETY HARBOR RESORT & SPA and THE SAFETY HARBOR CHAMBER OF COMMERCE. Our annual Health & Wealth Expo showcases businesses in the following industries:\n\n\n\nMedical\n\nAging\n\nFitness\n\nWellness\n\nNutrition\n\n Spiritual Health\n\nAnimal Health\n\nFinancial Planning\n\nBanking\n\nMortgage\n\nReal Estate\n\nInsurance\n\nEstate Planning\n\nRetirement\n\nFamily Activities\n\n\n\nDozens of vendors will be on hand with valuable information\, loads of giveaways\, presentations\, and free health screenings for cholesterol\, glucose\, blood pressure\, BMI\, vein care and more.  \n\nPlease contact the Chamber to become a sponsor or vendor!
X-ALT-DESC;FMTTYPE=text/html:<br />\n<span style="font-size:16px\;">This F</span><span style="line-height: 20.8px\; font-family: &quot\;eras demi itc&quot\;\, sans-serif\;"><span style="font-size: 12pt\;">REE Community event is sponsored by SAFETY HARBOR RESORT &amp\; SPA and THE SAFETY HARBOR CHAMBER OF COMMERCE. Our annual Health &amp\; Wealth Expo showcases businesses in the following industries:<br />\n<br />\nMedical</span></span><br style="line-height: 20.8px\;" />\n<span style="line-height: 20.8px\; font-family: &quot\;eras demi itc&quot\;\, sans-serif\;"><span style="font-size: 12pt\;">Aging</span></span><br style="line-height: 20.8px\;" />\n<span style="line-height: 20.8px\; font-family: &quot\;eras demi itc&quot\;\, sans-serif\;"><span style="font-size: 12pt\;">Fitness</span></span><br style="line-height: 20.8px\;" />\n<span style="line-height: 20.8px\; font-family: &quot\;eras demi itc&quot\;\, sans-serif\;"><span style="font-size: 12pt\;">Wellness</span></span><br style="line-height: 20.8px\;" />\n<span style="font-size: 12pt\;"><span style="font-family: &quot\;eras demi itc&quot\;\, sans-serif\;">Nutrition<br />\n&#8203\;</span></span><span style="font-family: &quot\;eras demi itc&quot\;\, sans-serif\;"><span style="font-size: 12pt\;">Spiritual</span></span><span style="font-family: &quot\;eras demi itc&quot\;\, sans-serif\;"><span style="font-size: 12pt\;">&nbsp\;Health</span></span><br />\n<span style="font-family: &quot\;eras demi itc&quot\;\, sans-serif\;"><span style="font-size: 12pt\;">Animal Health</span></span><br />\n<span style="font-family: &quot\;eras demi itc&quot\;\, sans-serif\;"><span style="font-size: 12pt\;">Financial Planning</span></span><br />\n<span style="font-family: &quot\;eras demi itc&quot\;\, sans-serif\;"><span style="font-size: 12pt\;">Banking</span></span><br />\n<span style="font-size: 12pt\;"><span style="font-family: &quot\;eras demi itc&quot\;\, sans-serif\;">Mortgage</span></span><br />\n<span style="font-family: &quot\;eras demi itc&quot\;\, sans-serif\;"><span style="font-size: 12pt\;">Real Estate</span></span><br />\n<span style="font-family: &quot\;eras demi itc&quot\;\, sans-serif\;"><span style="font-size: 12pt\;">Insurance</span></span><br />\n<span style="font-family: &quot\;eras demi itc&quot\;\, sans-serif\;"><span style="font-size: 12pt\;">Estate Planning</span></span><br />\n<span style="font-family: &quot\;eras demi itc&quot\;\, sans-serif\;"><span style="font-size: 12pt\;">Retirement</span></span><br />\n<span style="font-family: &quot\;eras demi itc&quot\;\, sans-serif\;"><span style="font-size: 12pt\;">Family Activities</span></span><br />\n<br />\n<span style="font-size: 18px\;"><span style="font-family: arial\;">Dozens of vendors will be on hand with valuable information\, loads of giveaways\, presentations\, and free health screenings for cholesterol\, glucose\, blood pressure\, BMI\, vein care and more.&nbsp\;&nbsp\;<br />\n<strong><span style="color: rgb(0\, 128\, 0)\;">Please contact the Chamber to become a sponsor or vendor!</span></strong></span></span>
LOCATION:Safety Harbor Resort & Spa 105 N Bayshore Drive Safety Harbor
UID:e.2494.7092
SEQUENCE:3
DTSTAMP:20260425T183139Z
URL:https://business.safetyharborchamber.com/events/details/7th-annual-health-wealth-expo-7092
END:VEVENT

END:VCALENDAR
