BEGIN:VCALENDAR
VERSION:2.0
PRODID:-//ChamberMaster//Event Calendar 2.0//EN
METHOD:PUBLISH
X-PUBLISHED-TTL:P3D
REFRESH-INTERVAL:P3D
CALSCALE:GREGORIAN
BEGIN:VEVENT
DTSTART:20250226T213000Z
DTEND:20250226T233000Z
X-MICROSOFT-CDO-ALLDAYEVENT:FALSE
SUMMARY:Wickshire Countryside Catch Up
DESCRIPTION:Don't Miss Out! Allow us to reintroduce ourselves! Join the new management team at Countryside for a night of reconnecting with old friends and meeting new faces. Network with other professionals\; enjoy finger foods\, chocolate\, champagne\, and other indulgent refreshments. Enter for a chance to win a door prize too! Let's CATCH UP and make 2025 the BEST YET!
X-ALT-DESC;FMTTYPE=text/html:Don&#39\;t Miss Out! Allow us to reintroduce ourselves! Join the new management team at Countryside for a night of reconnecting with old friends and meeting new faces. Network with other professionals\; enjoy finger foods\, chocolate\, champagne\, and other indulgent refreshments. Enter for a chance to win a door prize too! Let&#39\;s CATCH UP and make 2025 the BEST YET!
LOCATION:Wickshire Countryside Senior Living 3141 N. McMullen Booth Rd. Clearwater\, FL33761
UID:e.2494.14690
SEQUENCE:3
DTSTAMP:20260421T082535Z
URL:http://business.safetyharborchamber.com/events/details/wickshire-countryside-catch-up-14690
END:VEVENT

END:VCALENDAR
