BEGIN:VCALENDAR
VERSION:2.0
PRODID:-//ChamberMaster//Event Calendar 2.0//EN
METHOD:PUBLISH
X-PUBLISHED-TTL:P3D
REFRESH-INTERVAL:P3D
CALSCALE:GREGORIAN
BEGIN:VEVENT
DTSTART:20231203T003000Z
DTEND:20231203T023000Z
X-MICROSOFT-CDO-ALLDAYEVENT:FALSE
SUMMARY:MICHAEL CARBONARO
DESCRIPTION:Best known as the star and executive producer of the hit series\, The Carbonaro Effect on truTV\, Michael Carbonaro returns to Ruth Eckerd Hall! In 2016 Michael embarked on his first theater tour with the widely acclaimed show Michael Carbonaro Live! Since its debut\, Michael performed this show over 200 times to sold-out audiences across the country\, cementing him as one of the most dynamic entertainers of his generation. Now Michael is back with a brand-new show - Carbonaro: Lies on Stage - which will continue to showcase his unmatched blend of humor and charisma along with inventive illusions which will amaze audiences of all ages.
X-ALT-DESC;FMTTYPE=text/html:Best known as the star and executive producer of the hit series\, The Carbonaro Effect on truTV\, Michael Carbonaro returns to Ruth Eckerd Hall! In 2016 Michael embarked on his first theater tour with the widely acclaimed show Michael Carbonaro Live! Since its debut\, Michael performed this show over 200 times to sold-out audiences across the country\, cementing him as one of the most dynamic entertainers of his generation. Now Michael is back with a brand-new show - Carbonaro: Lies on Stage - which will continue to showcase his unmatched blend of humor and charisma along with inventive illusions which will amaze audiences of all ages.
LOCATION:RUTH ECKERD HALL
UID:e.2494.13557
SEQUENCE:3
DTSTAMP:20260423T055014Z
URL:http://business.safetyharborchamber.com/events/details/michael-carbonaro-13557
END:VEVENT

END:VCALENDAR
