BEGIN:VCALENDAR
VERSION:2.0
PRODID:-//ChamberMaster//Event Calendar 2.0//EN
METHOD:PUBLISH
X-PUBLISHED-TTL:P3D
REFRESH-INTERVAL:P3D
CALSCALE:GREGORIAN
BEGIN:VEVENT
DTSTART;VALUE=DATE:20230814
DTEND;VALUE=DATE:20230815
TRANSP:TRANSPARENT
X-MICROSOFT-CDO-ALLDAYEVENT:TRUE
SUMMARY:Featured Member: Nature Leaf Teas
DESCRIPTION:We are excited to have Nature Leaf Teas as a new member of the Chamber - visit them at 3rd Friday!\n\nNature Leaf Teas | Wellness & Nutrition | Beverage Distributor - Safety Harbor Chamber of Commerce\, FL
X-ALT-DESC;FMTTYPE=text/html:We are excited to have Nature Leaf Teas as a new member of the Chamber - visit them at 3rd Friday!<br />\n<a href="https://www.safetyharborchamber.com/list/member/nature-leaf-teas-4090">Nature Leaf Teas | Wellness &amp\; Nutrition | Beverage Distributor - Safety Harbor Chamber of Commerce\, FL</a>
LOCATION:
UID:e.2494.12569
SEQUENCE:3
DTSTAMP:20260424T204243Z
URL:http://business.safetyharborchamber.com/events/details/featured-member-nature-leaf-teas-12569
END:VEVENT

END:VCALENDAR
