BEGIN:VCALENDAR
VERSION:2.0
PRODID:-//ChamberMaster//Event Calendar 2.0//EN
METHOD:PUBLISH
X-PUBLISHED-TTL:P3D
REFRESH-INTERVAL:P3D
CALSCALE:GREGORIAN
BEGIN:VEVENT
DTSTART:20231221T230000Z
DTEND:20231222T003000Z
X-MICROSOFT-CDO-ALLDAYEVENT:FALSE
SUMMARY:Cookie Bar Crawl
DESCRIPTION:Bar cookies are a potluck staple\, perfect for the holidays\, and are made from either a batter or stiff dough that's poured or pressed into a baking pan or dish\, baked\, cooled\, and then cut into bars\, squares\, or diamonds. They can be single-layered (like brownies) or multi-layered with cake-like or chewy textures. Bring a tried and true\, family recipe or experiment with a deluxe\, new-to-you bar cookie to test out before the family holiday get-together. Registration required for bakers through the library's website: https://events.safetyharborlibrary.org/event/cookie-bar-crawl-24543
X-ALT-DESC;FMTTYPE=text/html:Bar cookies are a potluck staple\, perfect for the holidays\, and are made from either a batter or stiff dough that&rsquo\;s poured or pressed into a baking pan or dish\, baked\, cooled\, and then cut into bars\, squares\, or diamonds. They can be single-layered (like brownies) or multi-layered with cake-like or chewy textures. Bring a tried and true\, family recipe or experiment with a deluxe\, new-to-you bar cookie to test out before the family holiday get-together. Registration required for bakers through the library&rsquo\;s website: https://events.safetyharborlibrary.org/event/cookie-bar-crawl-24543
LOCATION:101 2nd Street North\, Safety Harbor\, FL 34695
UID:e.2494.13527
SEQUENCE:3
DTSTAMP:20260423T024808Z
URL:http://business.safetyharborchamber.com/events/details/cookie-bar-crawl-13527
END:VEVENT

END:VCALENDAR
