BEGIN:VCALENDAR
VERSION:2.0
PRODID:-//ChamberMaster//Event Calendar 2.0//EN
METHOD:PUBLISH
X-PUBLISHED-TTL:P3D
REFRESH-INTERVAL:P3D
CALSCALE:GREGORIAN
BEGIN:VEVENT
DTSTART:20231004T154500Z
DTEND:20231004T170000Z
X-MICROSOFT-CDO-ALLDAYEVENT:FALSE
SUMMARY:CFY Lunch and Learn
DESCRIPTION:CFY are hosting a lunch and learn where you can learn more about their initiatives and what they do to support our community.
X-ALT-DESC;FMTTYPE=text/html:CFY are hosting a lunch and learn where you can learn more about their initiatives and what they do to support our community.
LOCATION:Safety Harbor Resort and Spa
UID:e.2494.12728
SEQUENCE:3
DTSTAMP:20260425T145350Z
URL:http://business.safetyharborchamber.com/events/details/cfy-lunch-and-learn-12728
END:VEVENT

END:VCALENDAR
