BEGIN:VCALENDAR
VERSION:2.0
PRODID:-//ChamberMaster//Event Calendar 2.0//EN
METHOD:PUBLISH
X-PUBLISHED-TTL:P3D
REFRESH-INTERVAL:P3D
CALSCALE:GREGORIAN
BEGIN:VEVENT
DTSTART;VALUE=DATE:20230912
DTEND;VALUE=DATE:20230913
TRANSP:TRANSPARENT
X-MICROSOFT-CDO-ALLDAYEVENT:TRUE
SUMMARY:Board Retreat
DESCRIPTION:
X-ALT-DESC;FMTTYPE=text/html:
LOCATION:Safety Harbor Resort & Spa
UID:e.2494.12705
SEQUENCE:3
DTSTAMP:20260423T221216Z
URL:http://business.safetyharborchamber.com/events/details/board-retreat-12705
END:VEVENT

END:VCALENDAR
